BEGIN:VCALENDAR
VERSION:2.0
PRODID:-//Seniorenforum Werdenberg - ECPv6.15.17.1//NONSGML v1.0//EN
CALSCALE:GREGORIAN
METHOD:PUBLISH
X-WR-CALNAME:Seniorenforum Werdenberg
X-ORIGINAL-URL:https://seniorenforum-werdenberg.ch
X-WR-CALDESC:Veranstaltungen für Seniorenforum Werdenberg
REFRESH-INTERVAL;VALUE=DURATION:PT1H
X-Robots-Tag:noindex
X-PUBLISHED-TTL:PT1H
BEGIN:VTIMEZONE
TZID:Europe/Zurich
BEGIN:DAYLIGHT
TZOFFSETFROM:+0100
TZOFFSETTO:+0200
TZNAME:CEST
DTSTART:20250330T010000
END:DAYLIGHT
BEGIN:STANDARD
TZOFFSETFROM:+0200
TZOFFSETTO:+0100
TZNAME:CET
DTSTART:20251026T010000
END:STANDARD
BEGIN:DAYLIGHT
TZOFFSETFROM:+0100
TZOFFSETTO:+0200
TZNAME:CEST
DTSTART:20260329T010000
END:DAYLIGHT
BEGIN:STANDARD
TZOFFSETFROM:+0200
TZOFFSETTO:+0100
TZNAME:CET
DTSTART:20261025T010000
END:STANDARD
BEGIN:DAYLIGHT
TZOFFSETFROM:+0100
TZOFFSETTO:+0200
TZNAME:CEST
DTSTART:20270328T010000
END:DAYLIGHT
BEGIN:STANDARD
TZOFFSETFROM:+0200
TZOFFSETTO:+0100
TZNAME:CET
DTSTART:20271031T010000
END:STANDARD
END:VTIMEZONE
BEGIN:VEVENT
DTSTART;TZID=Europe/Zurich:20260428T151500
DTEND;TZID=Europe/Zurich:20260428T164500
DTSTAMP:20260421T145206
CREATED:20251224T121447Z
LAST-MODIFIED:20251224T121447Z
UID:2618-1777389300-1777394700@seniorenforum-werdenberg.ch
SUMMARY:Quo vadis Gesundheitskosten?
DESCRIPTION:Stefan Meierhans\, Preisüberwacher
URL:https://seniorenforum-werdenberg.ch/event/quo-vadis-gesundheitskosten/
LOCATION:Fachhochschule Ost\, Campus Buchs\, Hörsaal G1\, Buchs\, Switzerland
END:VEVENT
BEGIN:VEVENT
DTSTART;TZID=Europe/Zurich:20260519T151500
DTEND;TZID=Europe/Zurich:20260519T164500
DTSTAMP:20260421T145206
CREATED:20251224T122009Z
LAST-MODIFIED:20251224T122009Z
UID:2621-1779203700-1779209100@seniorenforum-werdenberg.ch
SUMMARY:Entwicklung zu einer neuen geopolitischen Weltordnung
DESCRIPTION:Prof. em. Dr. Beat Hotz-Hart\, Wirtschaftswissensch. Fakultät\, Uni Zürich
URL:https://seniorenforum-werdenberg.ch/event/entwicklung-zu-einer-neuen-geopolitischen-weltordnung/
LOCATION:Fachhochschule Ost\, Campus Buchs\, Hörsaal G1\, Buchs\, Switzerland
END:VEVENT
END:VCALENDAR